BEGIN:VCALENDAR
VERSION:2.0
PRODID:-//IPREA - ECPv6.15.11//NONSGML v1.0//EN
CALSCALE:GREGORIAN
METHOD:PUBLISH
X-WR-CALNAME:IPREA
X-ORIGINAL-URL:https://iprea.ph
X-WR-CALDESC:Events for IPREA
REFRESH-INTERVAL;VALUE=DURATION:PT1H
X-Robots-Tag:noindex
X-PUBLISHED-TTL:PT1H
BEGIN:VTIMEZONE
TZID:UTC
BEGIN:STANDARD
TZOFFSETFROM:+0000
TZOFFSETTO:+0000
TZNAME:UTC
DTSTART:20250101T000000
END:STANDARD
END:VTIMEZONE
BEGIN:VEVENT
DTSTART;TZID=UTC:20260501T080000
DTEND;TZID=UTC:20260501T170000
DTSTAMP:20260424T171105
CREATED:20260122T001134Z
LAST-MODIFIED:20260122T001134Z
UID:682-1777622400-1777654800@iprea.ph
SUMMARY:Sports Fest
DESCRIPTION:
URL:https://iprea.ph/event/sports-fest/
CATEGORIES:2026 Events
END:VEVENT
BEGIN:VEVENT
DTSTART;TZID=UTC:20260901T080000
DTEND;TZID=UTC:20260901T170000
DTSTAMP:20260424T171105
CREATED:20260122T001239Z
LAST-MODIFIED:20260122T001239Z
UID:686-1788249600-1788282000@iprea.ph
SUMMARY:2026 IPREA Annual Conference TBD
DESCRIPTION:
URL:https://iprea.ph/event/2026-iprea-annual-conference-tbd/
CATEGORIES:2026 Events
END:VEVENT
BEGIN:VEVENT
DTSTART;TZID=UTC:20261105T080000
DTEND;TZID=UTC:20261105T170000
DTSTAMP:20260424T171105
CREATED:20260122T001301Z
LAST-MODIFIED:20260122T001301Z
UID:688-1793865600-1793898000@iprea.ph
SUMMARY:AVA Annual Conference Bangkok
DESCRIPTION:
URL:https://iprea.ph/event/ava-annual-conference-bangkok-2/
CATEGORIES:2026 Events
END:VEVENT
BEGIN:VEVENT
DTSTART;TZID=UTC:20261231T080000
DTEND;TZID=UTC:20261231T170000
DTSTAMP:20260424T171105
CREATED:20260122T001321Z
LAST-MODIFIED:20260122T001321Z
UID:690-1798704000-1798736400@iprea.ph
SUMMARY:Board of Trustees Meeting & Christmas Party
DESCRIPTION:
URL:https://iprea.ph/event/board-of-trustees-meeting-christmas-party-2/
CATEGORIES:2026 Events
END:VEVENT
END:VCALENDAR